BEGIN:VCALENDAR
VERSION:2.0
PRODID:-//Squarespace Inc/Squarespace 6//v6//EN
BEGIN:VEVENT
UID:5f99ce7e5fc2eb294e406a96@squarespace.com
DTSTAMP:20201028T210313Z
DTSTART:20201121T010000Z
DTEND:20201121T030000Z
SUMMARY:Vulva Project Launch Party
GEO:-36.888653;174.747498
LOCATION:Unity Studios\, 1A Rocklands Avenue\, Auckland\, Auckland\, 1024\, 
 New Zealand
END:VEVENT
END:VCALENDAR
